BEGIN:VCALENDAR
VERSION:2.0
PRODID:-//Sisters of Providence of Saint Mary-of-the-Woods - ECPv6.15.14//NONSGML v1.0//EN
CALSCALE:GREGORIAN
METHOD:PUBLISH
X-ORIGINAL-URL:https://spsmw.org
X-WR-CALDESC:Events for Sisters of Providence of Saint Mary-of-the-Woods
REFRESH-INTERVAL;VALUE=DURATION:PT1H
X-Robots-Tag:noindex
X-PUBLISHED-TTL:PT1H
BEGIN:VTIMEZONE
TZID:America/Indiana/Indianapolis
BEGIN:DAYLIGHT
TZOFFSETFROM:-0500
TZOFFSETTO:-0400
TZNAME:EDT
DTSTART:20250309T070000
END:DAYLIGHT
BEGIN:STANDARD
TZOFFSETFROM:-0400
TZOFFSETTO:-0500
TZNAME:EST
DTSTART:20251102T060000
END:STANDARD
BEGIN:DAYLIGHT
TZOFFSETFROM:-0500
TZOFFSETTO:-0400
TZNAME:EDT
DTSTART:20260308T070000
END:DAYLIGHT
BEGIN:STANDARD
TZOFFSETFROM:-0400
TZOFFSETTO:-0500
TZNAME:EST
DTSTART:20261101T060000
END:STANDARD
BEGIN:DAYLIGHT
TZOFFSETFROM:-0500
TZOFFSETTO:-0400
TZNAME:EDT
DTSTART:20270314T070000
END:DAYLIGHT
BEGIN:STANDARD
TZOFFSETFROM:-0400
TZOFFSETTO:-0500
TZNAME:EST
DTSTART:20271107T060000
END:STANDARD
END:VTIMEZONE
BEGIN:VEVENT
DTSTART;TZID=America/Indiana/Indianapolis:20260307T090000
DTEND;TZID=America/Indiana/Indianapolis:20260307T140000
DTSTAMP:20260424T142812
CREATED:20250903T115046Z
LAST-MODIFIED:20260128T140134Z
UID:10003985-1772874000-1772892000@spsmw.org
SUMMARY:Teen Volunteer Opportunity
DESCRIPTION:Are you 12-18 years old? Come share your time and talents with our retired Sisters of Providence at Saint Mary-of-the-Woods and health care residents.  \n\n\n\n\n\n\n\nVisit with elder sisters and help them with activities such as Bingo\, exercise\, baking\, card making\, attending events and more. Your presence will brighten a sisters’ day! \n\n\n\nMost of our volunteer opportunities are from 9 a.m. to 2 p.m. Teens will gather at 9 a.m. in the lobby of Providence Spirituality and Conference Center at Saint Mary-of-the-Woods. Wear comfortable shoes and clothes that allow you to be mobile. Lunch is provided. \n\n\n\nRegistration for each event is one day before.
URL:https://spsmw.org/event/teen-volunteer-opportunity-10/2026-03-07/
LOCATION:Various locations at Saint Mary-of-the-Woods\, 1 Sisters of Providence\, Saint Mary-of-the-Woods\, IN\, 47876
CATEGORIES:Arts & Crafts,Series,Teen Volunteer Ministry,Volunteer
ATTACH;FMTTYPE=image/jpeg:https://spsmw.org/wp-content/uploads/2024/11/Teen-Volunteer8-web.jpg
GEO:39.510464;-87.460613
X-APPLE-STRUCTURED-LOCATION;VALUE=URI;X-ADDRESS=Various locations at Saint Mary-of-the-Woods 1 Sisters of Providence Saint Mary-of-the-Woods IN 47876;X-APPLE-RADIUS=500;X-TITLE=1 Sisters of Providence:geo:-87.460613,39.510464
END:VEVENT
END:VCALENDAR