BEGIN:VCALENDAR
VERSION:2.0
PRODID:-//Sisters of Providence of Saint Mary-of-the-Woods - ECPv6.15.14//NONSGML v1.0//EN
CALSCALE:GREGORIAN
METHOD:PUBLISH
X-WR-CALNAME:Sisters of Providence of Saint Mary-of-the-Woods
X-ORIGINAL-URL:https://spsmw.org
X-WR-CALDESC:Events for Sisters of Providence of Saint Mary-of-the-Woods
REFRESH-INTERVAL;VALUE=DURATION:PT1H
X-Robots-Tag:noindex
X-PUBLISHED-TTL:PT1H
BEGIN:VTIMEZONE
TZID:America/Indiana/Indianapolis
BEGIN:DAYLIGHT
TZOFFSETFROM:-0500
TZOFFSETTO:-0400
TZNAME:EDT
DTSTART:20240310T070000
END:DAYLIGHT
BEGIN:STANDARD
TZOFFSETFROM:-0400
TZOFFSETTO:-0500
TZNAME:EST
DTSTART:20241103T060000
END:STANDARD
BEGIN:DAYLIGHT
TZOFFSETFROM:-0500
TZOFFSETTO:-0400
TZNAME:EDT
DTSTART:20250309T070000
END:DAYLIGHT
BEGIN:STANDARD
TZOFFSETFROM:-0400
TZOFFSETTO:-0500
TZNAME:EST
DTSTART:20251102T060000
END:STANDARD
BEGIN:DAYLIGHT
TZOFFSETFROM:-0500
TZOFFSETTO:-0400
TZNAME:EDT
DTSTART:20260308T070000
END:DAYLIGHT
BEGIN:STANDARD
TZOFFSETFROM:-0400
TZOFFSETTO:-0500
TZNAME:EST
DTSTART:20261101T060000
END:STANDARD
END:VTIMEZONE
BEGIN:VEVENT
DTSTART;TZID=America/Indiana/Indianapolis:20251003T110000
DTEND;TZID=America/Indiana/Indianapolis:20251003T120000
DTSTAMP:20260424T125522
CREATED:20250718T112721Z
LAST-MODIFIED:20250930T110114Z
UID:10003959-1759489200-1759492800@spsmw.org
SUMMARY:Feast Day of Saint Mother Theodore Guerin
DESCRIPTION:The Sisters of Providence of Saint Mary-of-the-Woods\, Indiana\, and Providence Associates invite persons of all faith traditions to join them in person or virtually for the Eucharistic Liturgy (Mass) at 11 a.m.\, on Friday\, Oct. 3\, to celebrate the Feast Day of Saint Mother Theodore Guerin\, the eighth American Saint and foundress of the Sisters of Providence. \n\n\n\n\n\n\n\nCelebrate the Feast Day of Saint Mother Theodore Guerin by joining the Congregation and Providence Associates for a special Mass. \n\n\n\nThe liturgy will take place in the Church of the Immaculate Conception at Saint Mary-of-the-Woods\, located about 10 minutes northeast of downtown Terre Haute. \n\n\n\nSaint Mother Theodore Guerin was canonized by Pope Benedict XVI on Oct. 15\, 2006. \n\n\n\nClick here to view the livestream of the Mass if you are unable to attend in person.
URL:https://spsmw.org/event/feast-day-of-saint-mother-theodore-guerin-2/
LOCATION:Church of the Immaculate Conception\, 1 Sisters of Providence\, Saint Mary-of-the-Woods\, IN\, 47876
CATEGORIES:Providence Associates,Saint Mother Theodore Guerin,Services,Virtual Event
ATTACH;FMTTYPE=image/jpeg:https://spsmw.org/wp-content/uploads/2016/09/web-smtg-face.jpg
GEO:39.51096;-87.461814
X-APPLE-STRUCTURED-LOCATION;VALUE=URI;X-ADDRESS=Church of the Immaculate Conception 1 Sisters of Providence Saint Mary-of-the-Woods IN 47876;X-APPLE-RADIUS=500;X-TITLE=1 Sisters of Providence:geo:-87.461814,39.51096
END:VEVENT
BEGIN:VEVENT
DTSTART;TZID=America/Indiana/Indianapolis:20251022T110000
DTEND;TZID=America/Indiana/Indianapolis:20251022T120000
DTSTAMP:20260424T125522
CREATED:20250718T114344Z
LAST-MODIFIED:20251013T130422Z
UID:10003960-1761130800-1761134400@spsmw.org
SUMMARY:Sisters of Providence Foundation Day Mass
DESCRIPTION:The Sisters of Providence of Saint Mary-of-the-Woods\, Indiana\, invite persons of all faith traditions to join them in celebrating their Foundation Day with a special Mass\, scheduled for 11 a.m.\, on Wednesday\, Oct. 22\, in the Church of the Immaculate Conception at Saint Mary-of-the-Woods. \n\n\n\n\n\n\n\nJoin the sisters as they recognize their heritage and honor the day Saint Mother Theodore Guerin — foundress of the Sisters of Providence — and her five companions first set foot upon the soil at Saint Mary-of-the-Woods on Oct. 22\, 1840. \n\n\n\nFor more information\, call 812-535-2952 or email provctr@spsmw.org. \n\n\n\nFor those who are unable to attend the Mass in person\, here is a livestream link to watch online.
URL:https://spsmw.org/event/sisters-of-providence-foundation-day-mass-2/
LOCATION:Church of the Immaculate Conception\, 1 Sisters of Providence\, Saint Mary-of-the-Woods\, IN\, 47876
CATEGORIES:Family Events,Providence Associates,Saint Mother Theodore Guerin,Services,Virtual Event
ATTACH;FMTTYPE=image/jpeg:https://spsmw.org/wp-content/uploads/2024/10/Foundation-Day3-web.jpg
GEO:39.51096;-87.461814
X-APPLE-STRUCTURED-LOCATION;VALUE=URI;X-ADDRESS=Church of the Immaculate Conception 1 Sisters of Providence Saint Mary-of-the-Woods IN 47876;X-APPLE-RADIUS=500;X-TITLE=1 Sisters of Providence:geo:-87.461814,39.51096
END:VEVENT
END:VCALENDAR