BEGIN:VCALENDAR
VERSION:2.0
PRODID:-//Sisters of Providence of Saint Mary-of-the-Woods - ECPv6.15.14//NONSGML v1.0//EN
CALSCALE:GREGORIAN
METHOD:PUBLISH
X-ORIGINAL-URL:https://spsmw.org
X-WR-CALDESC:Events for Sisters of Providence of Saint Mary-of-the-Woods
REFRESH-INTERVAL;VALUE=DURATION:PT1H
X-Robots-Tag:noindex
X-PUBLISHED-TTL:PT1H
BEGIN:VTIMEZONE
TZID:America/Indiana/Indianapolis
BEGIN:DAYLIGHT
TZOFFSETFROM:-0500
TZOFFSETTO:-0400
TZNAME:EDT
DTSTART:20230312T070000
END:DAYLIGHT
BEGIN:STANDARD
TZOFFSETFROM:-0400
TZOFFSETTO:-0500
TZNAME:EST
DTSTART:20231105T060000
END:STANDARD
BEGIN:DAYLIGHT
TZOFFSETFROM:-0500
TZOFFSETTO:-0400
TZNAME:EDT
DTSTART:20240310T070000
END:DAYLIGHT
BEGIN:STANDARD
TZOFFSETFROM:-0400
TZOFFSETTO:-0500
TZNAME:EST
DTSTART:20241103T060000
END:STANDARD
BEGIN:DAYLIGHT
TZOFFSETFROM:-0500
TZOFFSETTO:-0400
TZNAME:EDT
DTSTART:20250309T070000
END:DAYLIGHT
BEGIN:STANDARD
TZOFFSETFROM:-0400
TZOFFSETTO:-0500
TZNAME:EST
DTSTART:20251102T060000
END:STANDARD
END:VTIMEZONE
BEGIN:VEVENT
DTSTART;TZID=America/Indiana/Indianapolis:20241224T190000
DTEND;TZID=America/Indiana/Indianapolis:20241224T200000
DTSTAMP:20260424T095827
CREATED:20241127T160354Z
LAST-MODIFIED:20241127T160356Z
UID:10003702-1735066800-1735070400@spsmw.org
SUMMARY:Christmas Eve Candlelight Vigil
DESCRIPTION:The Sisters of Providence of Saint Mary-of-the-Woods\, Indiana\, are inviting people of all faith traditions to join them for a Christmas Eve Candlelight Vigil beginning at 7 p.m.\, on Tuesday\, December 24. \n\n\n\n\n\n\n\nThe service will include readings and song and will take place in the Church of the Immaculate Conception at Saint Mary-of-the-Woods. \n\n\n\nFor more information\, call 812-535-2952 or email provctr@spsmw.org.
URL:https://spsmw.org/event/christmas-eve-candlelight-vigil/
LOCATION:Church of the Immaculate Conception\, 1 Sisters of Providence\, Saint Mary-of-the-Woods\, IN\, 47876
CATEGORIES:Family Events,Services
ATTACH;FMTTYPE=image/jpeg:https://spsmw.org/wp-content/uploads/2013/10/Christmastree2.jpg
GEO:39.51096;-87.461814
X-APPLE-STRUCTURED-LOCATION;VALUE=URI;X-ADDRESS=Church of the Immaculate Conception 1 Sisters of Providence Saint Mary-of-the-Woods IN 47876;X-APPLE-RADIUS=500;X-TITLE=1 Sisters of Providence:geo:-87.461814,39.51096
END:VEVENT
BEGIN:VEVENT
DTSTART;TZID=America/Indiana/Indianapolis:20241214T133000
DTEND;TZID=America/Indiana/Indianapolis:20241214T163000
DTSTAMP:20260424T095827
CREATED:20241127T155057Z
LAST-MODIFIED:20241127T155059Z
UID:10003701-1734183000-1734193800@spsmw.org
SUMMARY:Providence Community Bake Sale
DESCRIPTION:Are you craving some special\, delicious baked goods? We’re baking up lots of goodies that will hit the spot. Join us Dec. 14\, from 1:30-4:30 p.m.\, for the Providence Community Bake Sale in the Providence Spirituality and Conference Center at Saint Mary-of-the-Woods\, Indiana. \n\n\n\n\n\n\n\nWe will have all kinds of special goodies. And the best part? Your donations to our bake sale support the life and mission of the Sisters of Providence\, helping us as we reach out in love\, mercy and justice to people on the margins of society. So come on out on Dec. 14 to find some wonderful treats and help others in the process. \n\n\n\nBetter yet? Come for the bake sale\, stay for Christmas Fun at the Woods for fun for the whole family! \n\n\n\nThanks for your generosity in supporting the Sisters of Providence mission while treating yourself to something special! \n\n\n\nFor more information Contact Amy Miranda at 812-535-2812 or amiranda@spsmw.org.
URL:https://spsmw.org/event/providence-community-bake-sale-2/
LOCATION:Providence Spirituality & Conference Center\, 1 Sisters of Providence\, Saint Mary-of-the-Woods\, IN\, 47876\, United States
CATEGORIES:Family Events,Food & Gardening
ATTACH;FMTTYPE=image/jpeg:https://spsmw.org/wp-content/uploads/2023/10/Christmas-Fun-_-Bake-Sale-042.jpg
GEO:39.51096;-87.461814
X-APPLE-STRUCTURED-LOCATION;VALUE=URI;X-ADDRESS=Providence Spirituality & Conference Center 1 Sisters of Providence Saint Mary-of-the-Woods IN 47876 United States;X-APPLE-RADIUS=500;X-TITLE=1 Sisters of Providence:geo:-87.461814,39.51096
END:VEVENT
BEGIN:VEVENT
DTSTART;TZID=America/Indiana/Indianapolis:20241214T133000
DTEND;TZID=America/Indiana/Indianapolis:20241214T163000
DTSTAMP:20260424T095827
CREATED:20241004T132234Z
LAST-MODIFIED:20241010T191421Z
UID:10003691-1734183000-1734193800@spsmw.org
SUMMARY:Christmas Fun at the Woods
DESCRIPTION:The holiday tradition is back! Celebrate the coming of Christmas with the Sisters of Providence at Saint Mary-of-the-Woods.  \n\n\n\n\n\n\n\nGuests of all ages are invited to the Providence Spirituality and Conference Center for an afternoon full of fun for the whole family including crafts\, alpaca visits\, wagon rides\, storytelling\, face painting\, bake sale\, cake walk and much more. \n\n\n\nThere may even be a visit from Santa himself! \n\n\n\nThe event will take place from 1:30-4:30 p.m.\, on Saturday\, Dec. 14. \n\n\n\nNo registration is required and there is no cost to attend.
URL:https://spsmw.org/event/christmas-fun-at-the-woods-2/
LOCATION:Saint Mary-of-the-Woods\, 1 Sisters of Providence\, Saint Mary-of-the-Woods\, 47876
CATEGORIES:Family Events
ATTACH;FMTTYPE=image/jpeg:https://spsmw.org/wp-content/uploads/2024/10/Christmas-Fun-_-AlpacaWeb-800x500-1.jpg
END:VEVENT
BEGIN:VEVENT
DTSTART;TZID=America/Indiana/Indianapolis:20241209T110000
DTEND;TZID=America/Indiana/Indianapolis:20241209T120000
DTSTAMP:20260424T095827
CREATED:20241127T162039Z
LAST-MODIFIED:20241127T162041Z
UID:10003704-1733742000-1733745600@spsmw.org
SUMMARY:Mass for the Feast of the Immaculate Conception of the Blessed Virgin Mary
DESCRIPTION:Join the Sisters of Providence of Saint Mary-of-the-Woods\, Indiana\, as they celebrate Mass for the Feast of the Immaculate Conception of the Blessed Virgin Mary at 11 a.m.\, on Monday\, December 9. \n\n\n\n\n\n\n\nPeople of all faith traditions are invited to attend. \n\n\n\nMass will take place in the Church of the Immaculate Conception at Saint Mary-of-the-Woods. \n\n\n\nFor more information\, call 812-535-2952 or email provctr@spsmw.org.
URL:https://spsmw.org/event/mass-for-the-feast-of-the-immaculate-conception-of-the-blessed-virgin-mary/
LOCATION:Church of the Immaculate Conception\, 1 Sisters of Providence\, Saint Mary-of-the-Woods\, IN\, 47876
CATEGORIES:Family Events,Services
ATTACH;FMTTYPE=image/jpeg:https://spsmw.org/wp-content/uploads/2015/12/D056-WinterScenery-crop.jpg
GEO:39.51096;-87.461814
X-APPLE-STRUCTURED-LOCATION;VALUE=URI;X-ADDRESS=Church of the Immaculate Conception 1 Sisters of Providence Saint Mary-of-the-Woods IN 47876;X-APPLE-RADIUS=500;X-TITLE=1 Sisters of Providence:geo:-87.461814,39.51096
END:VEVENT
BEGIN:VEVENT
DTSTART;TZID=America/Indiana/Indianapolis:20241208T120000
DTEND;TZID=America/Indiana/Indianapolis:20241208T140000
DTSTAMP:20260424T095827
CREATED:20240920T175922Z
LAST-MODIFIED:20241205T142954Z
UID:10003687-1733659200-1733666400@spsmw.org
SUMMARY:Holiday Celebrations Around Our Table: Christmas Lunch
DESCRIPTION:Reserve Your Table for a Festive Fundraiser and lunch at the Woods! \n\n\n\nJoin us for a joyful afternoon in the beautiful and historic O’Shaughnessy Hall\, featuring a delicious holiday lunch that’s perfect for the whole family. Celebrate the season with loved ones while enjoying activities and entertainment! \n\n\n\n\nPhotos with Santa: Capture magical moments with Santa Claus. Printed photos will be available for an additional fee.\n\n\n\nLetters to Santa: Write and send your holiday wishes to the North Pole.\n\n\n\nLive Music: Enjoy festive live performances throughout the event.\n\n\n\nSilent Auction: Browse and bid on beautifully crafted holiday wreaths.\n\n\n\nChildren’s Menu: Special offerings available to delight younger guests.\n\n\n\n\nCreate lasting memories this holiday season while supporting the Woods. Reserve your table today! \n\n\n\nWhile visiting\, discover the perfect holiday gifts at Linden Leaf Gifts\, featuring a curated selection of American-made alpaca products\, sustainable goods from around the world and fair-trade items — ideal for thoughtful and meaningful presents! \n\n\n\nWe welcome you to join us for Mass in the Church of the Immaculate Conception from 11 a.m. to 12 p.m.
URL:https://spsmw.org/event/holiday-celebrations-around-our-table/
LOCATION:Providence Spirituality & Conference Center\, 1 Sisters of Providence\, Saint Mary-of-the-Woods\, IN\, 47876\, United States
CATEGORIES:Family Events,Sunday Brunch
ATTACH;FMTTYPE=image/jpeg:https://spsmw.org/wp-content/uploads/2024/09/Holiday-Celebrations-Around-Our-Table.jpg
GEO:39.51096;-87.461814
X-APPLE-STRUCTURED-LOCATION;VALUE=URI;X-ADDRESS=Providence Spirituality & Conference Center 1 Sisters of Providence Saint Mary-of-the-Woods IN 47876 United States;X-APPLE-RADIUS=500;X-TITLE=1 Sisters of Providence:geo:-87.461814,39.51096
END:VEVENT
BEGIN:VEVENT
DTSTART;TZID=America/Indiana/Indianapolis:20241130T130000
DTEND;TZID=America/Indiana/Indianapolis:20241130T160000
DTSTAMP:20260424T095827
CREATED:20240809T135209Z
LAST-MODIFIED:20241016T192340Z
UID:10003642-1732971600-1732982400@spsmw.org
SUMMARY:WVC Alpacas and Friends Open Barn
DESCRIPTION:Come out to the farm for an up close and personal experience. Farmer Tara will introduce you to our alpacas.  \n\n\n\n\n\n\n\nYou’ll also have an opportunity to meet some of our favorite chickens. Please dress appropriately for the weather.  \n\n\n\nBoots or old shoes are recommended. Meet at the White Violet Farm Store. \n\n\n\nThe event is scheduled to begin at 1 p.m.\, with a new session starting every 30 minutes. The final session begins at 3:30 p.m. \n\n\n\nThe registration deadline for the event is November 29.
URL:https://spsmw.org/event/wvc-alpacas-and-friends-open-barn/
LOCATION:White Violet Farm Alpacas barn\, Saint Mary-of-the-Woods\, IN\, 47876
CATEGORIES:Alpacas & Chickens,Family Events,Fiber
ATTACH;FMTTYPE=image/jpeg:https://spsmw.org/wp-content/uploads/2019/05/Farm-Tour-web.jpg
GEO:39.5113782;-87.4696839
END:VEVENT
BEGIN:VEVENT
DTSTART;TZID=America/Indiana/Indianapolis:20241130T100000
DTEND;TZID=America/Indiana/Indianapolis:20241130T100000
DTSTAMP:20260424T095827
CREATED:20240904T205541Z
LAST-MODIFIED:20240904T205545Z
UID:10003682-1732960800-1732960800@spsmw.org
SUMMARY:Forest Meditations
DESCRIPTION:Nature can teach us and heal us. Join us for a guided meditation based in eco-spirituality\, where you connect with the Divine through nature.  \n\n\n\nAs we wander among the trees\, you will have the opportunity to connect with yourself and listen as the forest offers you time to reflect on your life. Leave feeling grounded and calm as you re-enter the world with more clarity and peace. \n\n\n\n\n\n\n\nThe events will take place at 10:00 a.m.\, on Saturday\, Sept. 28\, Saturday\, Oct. 26 and Saturday\, Nov. 30\, at the St. Joseph’s Nature Trail at Saint Mary-of-the-Woods. \n\n\n\nThe trail is a mown path through the forest. It is considered an easy trail with uneven ground and some slight inclines and declines.  \n\n\n\nYou are encouraged to wear closed-toe shoes and dress according to the weather. This event may be canceled due to weather. We will walk in light rain. \n\n\n\nThere is no cost to attend\, but donations would be welcomed.
URL:https://spsmw.org/event/forest-meditations-3/
LOCATION:Saint Mary-of-the-Woods\, 1 Sisters of Providence\, Saint Mary-of-the-Woods\, 47876
CATEGORIES:Eco-Spirituality,Family Events,Health & Wellness,Justice Education,Retreats & Spiritual Programs,Series
ATTACH;FMTTYPE=image/jpeg:https://spsmw.org/wp-content/uploads/2024/04/Earth-Day-202429-web.jpg
END:VEVENT
BEGIN:VEVENT
DTSTART;TZID=America/Indiana/Indianapolis:20241026T100000
DTEND;TZID=America/Indiana/Indianapolis:20241026T100000
DTSTAMP:20260424T095827
CREATED:20240904T205427Z
LAST-MODIFIED:20240904T205431Z
UID:10003681-1729936800-1729936800@spsmw.org
SUMMARY:Forest Meditations
DESCRIPTION:Nature can teach us and heal us. Join us for a guided meditation based in eco-spirituality\, where you connect with the Divine through nature.  \n\n\n\nAs we wander among the trees\, you will have the opportunity to connect with yourself and listen as the forest offers you time to reflect on your life. Leave feeling grounded and calm as you re-enter the world with more clarity and peace. \n\n\n\n\n\n\n\nThe events will take place at 10:00 a.m.\, on Saturday\, Sept. 28\, Saturday\, Oct. 26 and Saturday\, Nov. 30\, at the St. Joseph’s Nature Trail at Saint Mary-of-the-Woods. \n\n\n\nThe trail is a mown path through the forest. It is considered an easy trail with uneven ground and some slight inclines and declines.  \n\n\n\nYou are encouraged to wear closed-toe shoes and dress according to the weather. This event may be canceled due to weather. We will walk in light rain. \n\n\n\nThere is no cost to attend\, but donations would be welcomed.
URL:https://spsmw.org/event/forest-meditations-2/
LOCATION:Saint Mary-of-the-Woods\, 1 Sisters of Providence\, Saint Mary-of-the-Woods\, 47876
CATEGORIES:Eco-Spirituality,Family Events,Health & Wellness,Justice Education,Retreats & Spiritual Programs,Series
ATTACH;FMTTYPE=image/jpeg:https://spsmw.org/wp-content/uploads/2024/04/Earth-Day-202429-web.jpg
END:VEVENT
BEGIN:VEVENT
DTSTART;TZID=America/Indiana/Indianapolis:20241022T110000
DTEND;TZID=America/Indiana/Indianapolis:20241022T120000
DTSTAMP:20260424T095827
CREATED:20240822T133148Z
LAST-MODIFIED:20240822T133150Z
UID:10003655-1729594800-1729598400@spsmw.org
SUMMARY:Sisters of Providence Foundation Day Mass
DESCRIPTION:The Sisters of Providence of Saint Mary-of-the-Woods\, Indiana\, invite persons of all faith traditions to join them in celebrating their Foundation Day with a special mass\, scheduled for 11 a.m.\, on Tuesday\, Oct. 22\, in the Church of the Immaculate Conception at Saint Mary-of-the-Woods. \n\n\n\nGeneral Superior Sister Dawn Tomaszewski\n\n\n\nJoin the sisters as they recognize their heritage and honor the day Saint Mother Theodore Guerin — foundress of the Sisters of Providence — and her five companions first set foot upon the soil at Saint Mary-of-the-Woods on Oct. 22\, 1840. \n\n\n\nFor more information\, call 812-535-2952 or email provctr@spsmw.org.
URL:https://spsmw.org/event/sisters-of-providence-foundation-day-mass/
LOCATION:Church of the Immaculate Conception\, 1 Sisters of Providence\, Saint Mary-of-the-Woods\, IN\, 47876
CATEGORIES:Family Events,Providence Associates,Saint Mother Theodore Guerin,Services
ATTACH;FMTTYPE=image/jpeg:https://spsmw.org/wp-content/uploads/2021/10/Chapter-2021-web-3.jpg
GEO:39.51096;-87.461814
X-APPLE-STRUCTURED-LOCATION;VALUE=URI;X-ADDRESS=Church of the Immaculate Conception 1 Sisters of Providence Saint Mary-of-the-Woods IN 47876;X-APPLE-RADIUS=500;X-TITLE=1 Sisters of Providence:geo:-87.461814,39.51096
END:VEVENT
BEGIN:VEVENT
DTSTART;TZID=America/Indiana/Indianapolis:20240928T100000
DTEND;TZID=America/Indiana/Indianapolis:20240928T100000
DTSTAMP:20260424T095827
CREATED:20240903T153150Z
LAST-MODIFIED:20240904T205238Z
UID:10003678-1727517600-1727517600@spsmw.org
SUMMARY:Forest Meditations
DESCRIPTION:Nature can teach us and heal us. Join us for a guided meditation based in eco-spirituality\, where you connect with the Divine through nature.  \n\n\n\nAs we wander among the trees\, you will have the opportunity to connect with yourself and listen as the forest offers you time to reflect on your life. Leave feeling grounded and calm as you re-enter the world with more clarity and peace. \n\n\n\n\n\n\n\nThe events will take place at 10:00 a.m.\, on Saturday\, Sept. 28\, Saturday\, Oct. 26 and Saturday\, Nov. 30\, at the St. Joseph’s Nature Trail at Saint Mary-of-the-Woods. \n\n\n\nThe trail is a mown path through the forest. It is considered an easy trail with uneven ground and some slight inclines and declines.  \n\n\n\nYou are encouraged to wear closed-toe shoes and dress according to the weather. This event may be canceled due to weather. We will walk in light rain. \n\n\n\nThere is no cost to attend\, but donations would be welcomed.
URL:https://spsmw.org/event/forest-meditations/
LOCATION:Saint Mary-of-the-Woods\, 1 Sisters of Providence\, Saint Mary-of-the-Woods\, 47876
CATEGORIES:Eco-Spirituality,Family Events,Health & Wellness,Justice Education,Retreats & Spiritual Programs,Series
ATTACH;FMTTYPE=image/jpeg:https://spsmw.org/wp-content/uploads/2024/04/Earth-Day-202429-web.jpg
END:VEVENT
END:VCALENDAR